BEGIN:VCALENDAR
VERSION:2.0
PRODID:-//Library Market//iCal Export//EN
BEGIN:VEVENT
SUMMARY:Create &amp; Connect
UID:6243
DTSTAMP:20260424T125500Z
DTSTART:20260520T233000Z
DTEND:20260521T004500Z
LOCATION:615 Phillips Blvd., Sauk City, WI 53583, United States
ROOM: Community Room
DESCRIPTION:Create and Connect and-- unwind! A monthly program for adults 
 to enjoy fellowship and unleash creativity!  You&#039;ll have either the 
 option of learning an art technique or craft an item to take with you. But
  you can also create with your own materials and ideas, or use materials t
 hat we have available. This month&#039;s craft: Neurographic Art.No specia
 l skills required-- just relax and have fun while learning!Cost—none; re
 gistration—none; audience—adults.  
URL:https://georgeculver.librarycalendar.com/event/create-connect-6243
END:VEVENT
END:VCALENDAR
